



BEGIN:VCALENDAR
VERSION:2.0
PRODID:-//Maison des Sciences Humaines et sociales Paris Nord - ECPv6.8.2.1//NONSGML v1.0//EN
CALSCALE:GREGORIAN
METHOD:PUBLISH
X-WR-CALNAME:Maison des Sciences Humaines et sociales Paris Nord
X-ORIGINAL-URL:https://www.mshparisnord.fr
X-WR-CALDESC:Évènements pour Maison des Sciences Humaines et sociales Paris Nord
REFRESH-INTERVAL;VALUE=DURATION:PT1H
X-Robots-Tag:noindex
X-PUBLISHED-TTL:PT1H
BEGIN:VTIMEZONE
TZID:Europe/Paris
BEGIN:DAYLIGHT
TZOFFSETFROM:+0100
TZOFFSETTO:+0200
TZNAME:CEST
DTSTART:20260329T010000
END:DAYLIGHT
BEGIN:STANDARD
TZOFFSETFROM:+0200
TZOFFSETTO:+0100
TZNAME:CET
DTSTART:20261025T010000
END:STANDARD
END:VTIMEZONE
BEGIN:VEVENT
DTSTART;TZID=Europe/Paris:20260626T140000
DTEND;TZID=Europe/Paris:20260626T160000
DTSTAMP:20260423T075101
CREATED:20260130T154058Z
LAST-MODIFIED:20260330T160535Z
UID:10008388-1782482400-1782489600@www.mshparisnord.fr
SUMMARY:Séminaire | La « fabrication » de la loi ou l’art de légiférer dans tous ses états
DESCRIPTION:À propos de la réglementation juridique des « JONUM » (jeux à objets numériques monétisables)\nLe législateur français a récemment fait entrer les jeux à objets numériques monétisables dans le paysage des jeux légaux en France à titre expérimental et pour une durée de trois ans à compter de la promulgation de la loi n° 2024-449 du 21 mai 2024. Il s’agit donc d’une réglementation destinée à promouvoir des jeux dits web 3\, aux interstices des jeux d’argent et de hasard et des jeux vidéo. Compte tenu du processus législatif adopté\, et bien que la loi s’affiche comme étant protecteur\, la loi JONUM n’introduit-elle pas un régime très favorable à un « objet non identifié » dans le cadre juridique des jeux\, traditionnellement imprégné d’un ordre public de protection (santé mentale\, protection des personnes vulnérables\, éducation). \nChaque séminaire\, consacré à une branche du droit\, fait l’objet d’une intervention d’un enseignant·e-chercheur·e. Ce dernier sous le prisme de son expertise porte un regard sur la loi JONUM. Puis\, s’en suit une discussion avec le public en présentiel ou en ligne. \nProgramme\n\n18 février 2026\, de 15h à 17h\ninscription à la séance : https://colloques.dsps.univ-paris13.fr/user/sinscrire/86\n\nJONUM et droit public\navec M. J-J Menuret \nJean-Jacques Menuret est maître de conférences de droit public à l’université Sorbonne Paris Nord\, membre de l’Institut de Droit public\, sciences politiques et sociales (IDPS) et de la MSH Paris Nord. Ses travaux s’intéressent aux mutations du droit public\, et spécialement à la transformation de la production et des producteurs de la norme (État\, administrations\, juridictions\, autorités indépendantes) et à l’apparition et au développement de procédés plus souples qui accompagnent ces changements (régulation\, compliance\, droit souple\, participation). Parmi les plus récents\, plusieurs ont porté sur le phénomène de la compliance qui semble toucher l’ensemble des branches du droit et conduire à une forme de régulation privée\, laissant de côté les autorités publiques normalement compétentes pour édicter la règle de droit. \n\n\n 25 février 2026\, de 14h à 16h\ninscription à la séance : https://colloques.dsps.univ-paris13.fr/user/sinscrire/87\n\nDroit belge\navec M. E. Marique \nÉtienne Marique est magistrat honoraire\, il a dirigé pendant 20 ans la Commission des jeux de hasard en Belgique. Expert du secteur et de la réglementation. \n\n\n18 mars 2026\, de 14h à 16h\n\nJONUM et droit civil\navec Mme. C. Bloud-Rey \n\n\n8 avril 2026\, de 15h à 17h\ninscription à la séance : https://colloques.dsps.univ-paris13.fr/user/sinscrire/91\n\nJONUM et cryptomonnaie\navec Mme M. Boutron-Collinot et Mme A. Riano Saad \n\n\n17 avril 2026\, de 15h à 17h\ninscription à la séance : https://colloques.dsps.univ-paris13.fr/user/sinscrire/92\n\nJONUM et santé\navec Mme S. Sandré \n\n\n20 mai 2026\, de 14h à 16h\n\nJONUM et droit pénal\navec M. S. Husser et Mme O. Bonnard \n\n\n17 juin 2026\, de 15h à 17h\n\nJONUM et enjeux économiques\navec M. Ph. Barbet \n\n\n26 juin 2026\, de 14h à 16h\n\nJONUM et histoire des jeux\navec Mme E. Belmas \n\nInformations pratiques\n\nles 18 et 25 février\, 18 mars\, 8 et 17 avril\, 20 mai\, 17 et 26 juin 2026\nà la MSH Paris Nord\, salle panoramique\, et en visioconférence\nle lien est communiqué avant l’événement\, sur inscription (lien à venir)\nséminaires de recherche ouverts aux enseignant·es-chercheur·es\, aux chercheur·es\, aux doctorant·es\, aux étudiant·es inscrit·es en Master\, aux professionnel·les intéressé·es par les aspects théoriques et pratiques sous l’angle juridique\n\nResponsable scientifique : Céline Bloud-Rey est maître de conférence en droit privé\, membre de l’IRDA (Institut de recherche pour un droit attractif\, EA3970\, USPN)\, co-responsable du thème D Régulations\, financiarisation\, justice de l’axe 3 Transitions\, régulations\, innovations de la MSH Paris Nord\, membre du conseil scientifique du GIS Jeu et Sociétés \nUn projet de recherche qui bénéficie du soutien de la MSH Paris Nord dans le cadre de son appel à projets annuel.
URL:https://www.mshparisnord.fr/event/seminaire-jonum/2026-06-26/
LOCATION:MSH Paris Nord\, 20\, avenue George Sand\, La Plaine Saint-Denis\, Métro ligne 12 : « Front populaire »\, accessible aux personnes à mobilité réduite\, 93210\, France
CATEGORIES:Manifestations scientifiques
ATTACH;FMTTYPE=image/png:https://www.mshparisnord.fr/wp-content/uploads/2026/01/A3-JONUM.png
END:VEVENT
BEGIN:VEVENT
DTSTART;TZID=Europe/Paris:20260626T140000
DTEND;TZID=Europe/Paris:20260626T170000
DTSTAMP:20260423T075101
CREATED:20260218T154509Z
LAST-MODIFIED:20260320T152522Z
UID:10008426-1782482400-1782493200@www.mshparisnord.fr
SUMMARY:Workshop | Comment se dit la souffrance psychique aujourd’hui ?
DESCRIPTION:Psychanalyse et Sciences Sociales\, regards croisés\nDans notre travail clinique\, nous écoutons la manière dont le sujet exprime sa souffrance\, la comprend et lui donne forme aujourd’hui. En effet\, la façon de structurer la souffrance\, de se la représenter\, de la dire et de lui donner corps\, de formuler une demande varient et changent. Ces transformations\, à la fois dans la forme que prend le symptôme mais aussi dans le rapport que le sujet entretient à celui-ci\, semblent relatives à des mutations collectives historiques et sociales. Certes\, le symptôme est\, du point du vue psychanalytique\, le lieu d’une problématique subjective. Or\, il est également articulé avec le tissu social\, le discours de notre époque et les institutions qui l’accueillent et qui le reconnaissent comme tel. Cela ouvre une nécessité de la création d’un espace d’échange interdisciplinaire qui porte un regard croisé – psychanalyse et sciences sociales – et qui interroge cette jonction du symptôme et du social. Il s’agit de voir et d’analyser comment vie psychique et conditions sociales et historiques convergent pour donner forme à notre manière de structurer la souffrance psychique et de se positionner face au symptôme. Il en va de même avec la conception de la “guérison”\, de la maladie\, de ce que le sujet demande\, de la manière dont il formule sa demande et à qui il la destine. Ces éléments changent en fonction de certains idéaux socialement déterminés\, d’une certaine conception anthropologique\, etc. Il s’agit donc de penser la manière dont le sujet se rapporte à sa souffrance\, la dit et comment ce rapport conditionne sa demande de soin. \nProgramme\n\n3 avril 2026\, à la MSH Paris Nord (salle panoramique)\n\nPremier workshop avec Alain Ehrenberg (Directeur de recherche émérite/Research Senior Fellow emeritus\, CNRS\, CERMES3\, université de Paris-Cité\, EHESS\, INSERM) \n\n\n26 juin 2026\, à la MSH Paris Nord (amphithéâtre)\n\nSecond workshop avec Richard Rechtman (directeur d’études de l’EHESS\, anthropologue\, psychiatre) \n\nInformations pratiques\n\nle vendredi 3 avril et le vendredi 26 juin 2026\, de 14h à 17h\nà la MSH Paris Nord\nouvert aux étudiant·es\, doctorant·es et chercheur·es\n\nUn projet de recherche qui bénéficie du soutien de la MSH Paris Nord dans le cadre de son appel à projets annuel.
URL:https://www.mshparisnord.fr/event/workshop-dire-souffrance-psychique/2026-06-26/
LOCATION:MSH Paris Nord\, 20\, avenue George Sand\, La Plaine Saint-Denis\, Métro ligne 12 : « Front populaire »\, accessible aux personnes à mobilité réduite\, 93210\, France
CATEGORIES:Manifestations scientifiques
ATTACH;FMTTYPE=image/jpeg:https://www.mshparisnord.fr/wp-content/uploads/2026/02/A3-souffrance-psychique-generique.jpg
END:VEVENT
END:VCALENDAR