BEGIN:VCALENDAR
VERSION:2.0
PRODID:-//Maison des Sciences Humaines et sociales Paris Nord - ECPv6.8.2.1//NONSGML v1.0//EN
CALSCALE:GREGORIAN
METHOD:PUBLISH
X-ORIGINAL-URL:https://www.mshparisnord.fr
X-WR-CALDESC:Évènements pour Maison des Sciences Humaines et sociales Paris Nord
REFRESH-INTERVAL;VALUE=DURATION:PT1H
X-Robots-Tag:noindex
X-PUBLISHED-TTL:PT1H
BEGIN:VTIMEZONE
TZID:Europe/Paris
BEGIN:DAYLIGHT
TZOFFSETFROM:+0100
TZOFFSETTO:+0200
TZNAME:CEST
DTSTART:20220327T010000
END:DAYLIGHT
BEGIN:STANDARD
TZOFFSETFROM:+0200
TZOFFSETTO:+0100
TZNAME:CET
DTSTART:20221030T010000
END:STANDARD
END:VTIMEZONE
BEGIN:VEVENT
DTSTART;TZID=Europe/Paris:20220624T100000
DTEND;TZID=Europe/Paris:20220624T130000
DTSTAMP:20260426T033225
CREATED:20220131T143916Z
LAST-MODIFIED:20220509T094837Z
UID:10007217-1656064800-1656075600@www.mshparisnord.fr
SUMMARY:Séminaire\, Le corps des domestiques
DESCRIPTION:Séminaire du groupe de recherche interdisciplinaire sur les domesticités. \nL’atelier du 18 novembre 2021\, Le corps des domestiques\, a lancé le séminaire du Gridom. \nLe programme poursuit la réflexion sur les corps au travail de celles et ceux qui s’exposent pour prendre soin de notre monde\, pour faire tenir nos vies. Travailleurs et travailleuses des classes populaires\, les nourrices\, aides ménager·es\, auxiliaires de puériculture\, assistantes maternelles\, aides de vie sont ces personnes souvent effacées de la compréhension du passé comme du présent. Il s’agit pour nous de mettre en lumière leurs modes d’existence et d’expérience sensibles\, de problématiser leur place dans les rapports sociaux\, en les réinscrivant dans une histoire des corps subalternes\, déployée dans un espace mondialisé et sur une séquence chronologique large\, du XIXe siècle à nos jours. \nPour les séances de 2022\, alternerons la présentation de recherches en cours et\, à partir de matériaux visuels\, une réflexion collective sur les visibilités des domesticités. \nProgrammes\nLe 11 février 2022\nProjection de La Noire de… d’Ousmane Sembène (1966)\nSéance et discussion introduites par Caroline Ibos (Paris 8\, LEGS) et Monique Milia Marie-Luce (université des Antilles\, AIHP-GEODE\, Fellow ICM-Global) \nAuditorium de la MSH Paris Nord\n20 Avenue Georges Sand\, La plaine Saint-Denis \n\nLe 18 mars 2022\nProjection de Près d’elle de Chiara Giordano (ULB) et Benjamin Durand (2021)\nSéance en présence de la réalisatrice\, introduite par Nina Sahraoui (CRESPPA) \nAuditorium du Centre des colloques\, Campus Condorcet\,\nPlace du Front populaire\, Aubervilliers \n\nLe 22 avril 2022\n Entre genre\, classe\, race et âge : faire l’histoire des « boys » dans l’empire colonial français (XIXe-XXe siècle) de Stéphanie Soubrier (Paris 1 Panthéon-Sorbonne)\nSéance introduite par Monique Milia Marie-Luce (université des Antilles\, AIHP-GEODE\, Fellow ICM-Global) et Clyde Plumauzille (CNRS\, CMH) \nMaison des sciences de l’homme Paris Nord\, salle 408\n20 Avenue Georges Sand\, La plaine Saint-Denis \n\nLe 27 mai 2022\nDomesticités et plateformes de service à domicile. Le cas de Wecasa de Aurore Koechlin (Paris 1 Panthéon-Sorbonne)\nSéance et discussion introduites par Caroline Ibos (Paris 8\, LEGS). \nSalle 1.095 dans le bâtiment de recherche Nord du Campus Condorcet\nPlace du Front populaire\, Aubervilliers \n\nLe 24 juin 2022\nProjection de Overseas Sung-A Yun (2021)\nSéance et discussion introduites par Julien Debonneville (université de Genève) \nLieu à préciser \n\ninformations pratiques\nSéminaire public\nun vendredi par mois\nde 10h à 13h \nOrganisé par Caroline Ibos (université Paris 8\, LEGS)\, Monique Milia Marie Luce (université des Antilles\, AIHP-GEODE\, Fellow ICM-Global) et Clyde Plumauzille (CNRS\, CMH) \n>> télécharger le programme complet (pdf) \nDans le cadre du projet de recherche soutenu par la MSH Paris Nord Les corps exposés à l’ombre des subalternes du soin \n>> consulter la présentation de l’atelier du 18 novembre 2021\nhttps://www.mshparisnord.fr/event/atelier-de-recherche-le-corps-des-domestiques/ \n>> site du GRIDOM\nhttps://domesticites.hypotheses.org/ \nUn projet de recherche qui bénéficie du soutien de la MSH Paris Nord dans le cadre de son appel à projets.
URL:https://www.mshparisnord.fr/event/seminaire-le-corps-de-domestiques/2022-06-24/
LOCATION:MSH Paris Nord\, 20\, avenue George Sand\, La Plaine Saint-Denis\, Métro ligne 12 : « Front populaire »\, accessible aux personnes à mobilité réduite\, 93210\, France
CATEGORIES:Manifestations scientifiques
ATTACH;FMTTYPE=image/jpeg:https://www.mshparisnord.fr/wp-content/uploads/2022/01/corps-domestique22-250.jpg
END:VEVENT
BEGIN:VEVENT
DTSTART;TZID=Europe/Paris:20220527T100000
DTEND;TZID=Europe/Paris:20220527T130000
DTSTAMP:20260426T033225
CREATED:20220131T143916Z
LAST-MODIFIED:20220509T094837Z
UID:10007216-1653645600-1653656400@www.mshparisnord.fr
SUMMARY:Séminaire\, Le corps des domestiques
DESCRIPTION:Séminaire du groupe de recherche interdisciplinaire sur les domesticités. \nL’atelier du 18 novembre 2021\, Le corps des domestiques\, a lancé le séminaire du Gridom. \nLe programme poursuit la réflexion sur les corps au travail de celles et ceux qui s’exposent pour prendre soin de notre monde\, pour faire tenir nos vies. Travailleurs et travailleuses des classes populaires\, les nourrices\, aides ménager·es\, auxiliaires de puériculture\, assistantes maternelles\, aides de vie sont ces personnes souvent effacées de la compréhension du passé comme du présent. Il s’agit pour nous de mettre en lumière leurs modes d’existence et d’expérience sensibles\, de problématiser leur place dans les rapports sociaux\, en les réinscrivant dans une histoire des corps subalternes\, déployée dans un espace mondialisé et sur une séquence chronologique large\, du XIXe siècle à nos jours. \nPour les séances de 2022\, alternerons la présentation de recherches en cours et\, à partir de matériaux visuels\, une réflexion collective sur les visibilités des domesticités. \nProgrammes\nLe 11 février 2022\nProjection de La Noire de… d’Ousmane Sembène (1966)\nSéance et discussion introduites par Caroline Ibos (Paris 8\, LEGS) et Monique Milia Marie-Luce (université des Antilles\, AIHP-GEODE\, Fellow ICM-Global) \nAuditorium de la MSH Paris Nord\n20 Avenue Georges Sand\, La plaine Saint-Denis \n\nLe 18 mars 2022\nProjection de Près d’elle de Chiara Giordano (ULB) et Benjamin Durand (2021)\nSéance en présence de la réalisatrice\, introduite par Nina Sahraoui (CRESPPA) \nAuditorium du Centre des colloques\, Campus Condorcet\,\nPlace du Front populaire\, Aubervilliers \n\nLe 22 avril 2022\n Entre genre\, classe\, race et âge : faire l’histoire des « boys » dans l’empire colonial français (XIXe-XXe siècle) de Stéphanie Soubrier (Paris 1 Panthéon-Sorbonne)\nSéance introduite par Monique Milia Marie-Luce (université des Antilles\, AIHP-GEODE\, Fellow ICM-Global) et Clyde Plumauzille (CNRS\, CMH) \nMaison des sciences de l’homme Paris Nord\, salle 408\n20 Avenue Georges Sand\, La plaine Saint-Denis \n\nLe 27 mai 2022\nDomesticités et plateformes de service à domicile. Le cas de Wecasa de Aurore Koechlin (Paris 1 Panthéon-Sorbonne)\nSéance et discussion introduites par Caroline Ibos (Paris 8\, LEGS). \nSalle 1.095 dans le bâtiment de recherche Nord du Campus Condorcet\nPlace du Front populaire\, Aubervilliers \n\nLe 24 juin 2022\nProjection de Overseas Sung-A Yun (2021)\nSéance et discussion introduites par Julien Debonneville (université de Genève) \nLieu à préciser \n\ninformations pratiques\nSéminaire public\nun vendredi par mois\nde 10h à 13h \nOrganisé par Caroline Ibos (université Paris 8\, LEGS)\, Monique Milia Marie Luce (université des Antilles\, AIHP-GEODE\, Fellow ICM-Global) et Clyde Plumauzille (CNRS\, CMH) \n>> télécharger le programme complet (pdf) \nDans le cadre du projet de recherche soutenu par la MSH Paris Nord Les corps exposés à l’ombre des subalternes du soin \n>> consulter la présentation de l’atelier du 18 novembre 2021\nhttps://www.mshparisnord.fr/event/atelier-de-recherche-le-corps-des-domestiques/ \n>> site du GRIDOM\nhttps://domesticites.hypotheses.org/ \nUn projet de recherche qui bénéficie du soutien de la MSH Paris Nord dans le cadre de son appel à projets.
URL:https://www.mshparisnord.fr/event/seminaire-le-corps-de-domestiques/2022-05-27/
LOCATION:MSH Paris Nord\, 20\, avenue George Sand\, La Plaine Saint-Denis\, Métro ligne 12 : « Front populaire »\, accessible aux personnes à mobilité réduite\, 93210\, France
CATEGORIES:Manifestations scientifiques
ATTACH;FMTTYPE=image/jpeg:https://www.mshparisnord.fr/wp-content/uploads/2022/01/corps-domestique22-250.jpg
END:VEVENT
BEGIN:VEVENT
DTSTART;TZID=Europe/Paris:20220422T100000
DTEND;TZID=Europe/Paris:20220422T130000
DTSTAMP:20260426T033225
CREATED:20220131T143916Z
LAST-MODIFIED:20220509T094837Z
UID:10007215-1650621600-1650632400@www.mshparisnord.fr
SUMMARY:Séminaire\, Le corps des domestiques
DESCRIPTION:Séminaire du groupe de recherche interdisciplinaire sur les domesticités. \nL’atelier du 18 novembre 2021\, Le corps des domestiques\, a lancé le séminaire du Gridom. \nLe programme poursuit la réflexion sur les corps au travail de celles et ceux qui s’exposent pour prendre soin de notre monde\, pour faire tenir nos vies. Travailleurs et travailleuses des classes populaires\, les nourrices\, aides ménager·es\, auxiliaires de puériculture\, assistantes maternelles\, aides de vie sont ces personnes souvent effacées de la compréhension du passé comme du présent. Il s’agit pour nous de mettre en lumière leurs modes d’existence et d’expérience sensibles\, de problématiser leur place dans les rapports sociaux\, en les réinscrivant dans une histoire des corps subalternes\, déployée dans un espace mondialisé et sur une séquence chronologique large\, du XIXe siècle à nos jours. \nPour les séances de 2022\, alternerons la présentation de recherches en cours et\, à partir de matériaux visuels\, une réflexion collective sur les visibilités des domesticités. \nProgrammes\nLe 11 février 2022\nProjection de La Noire de… d’Ousmane Sembène (1966)\nSéance et discussion introduites par Caroline Ibos (Paris 8\, LEGS) et Monique Milia Marie-Luce (université des Antilles\, AIHP-GEODE\, Fellow ICM-Global) \nAuditorium de la MSH Paris Nord\n20 Avenue Georges Sand\, La plaine Saint-Denis \n\nLe 18 mars 2022\nProjection de Près d’elle de Chiara Giordano (ULB) et Benjamin Durand (2021)\nSéance en présence de la réalisatrice\, introduite par Nina Sahraoui (CRESPPA) \nAuditorium du Centre des colloques\, Campus Condorcet\,\nPlace du Front populaire\, Aubervilliers \n\nLe 22 avril 2022\n Entre genre\, classe\, race et âge : faire l’histoire des « boys » dans l’empire colonial français (XIXe-XXe siècle) de Stéphanie Soubrier (Paris 1 Panthéon-Sorbonne)\nSéance introduite par Monique Milia Marie-Luce (université des Antilles\, AIHP-GEODE\, Fellow ICM-Global) et Clyde Plumauzille (CNRS\, CMH) \nMaison des sciences de l’homme Paris Nord\, salle 408\n20 Avenue Georges Sand\, La plaine Saint-Denis \n\nLe 27 mai 2022\nDomesticités et plateformes de service à domicile. Le cas de Wecasa de Aurore Koechlin (Paris 1 Panthéon-Sorbonne)\nSéance et discussion introduites par Caroline Ibos (Paris 8\, LEGS). \nSalle 1.095 dans le bâtiment de recherche Nord du Campus Condorcet\nPlace du Front populaire\, Aubervilliers \n\nLe 24 juin 2022\nProjection de Overseas Sung-A Yun (2021)\nSéance et discussion introduites par Julien Debonneville (université de Genève) \nLieu à préciser \n\ninformations pratiques\nSéminaire public\nun vendredi par mois\nde 10h à 13h \nOrganisé par Caroline Ibos (université Paris 8\, LEGS)\, Monique Milia Marie Luce (université des Antilles\, AIHP-GEODE\, Fellow ICM-Global) et Clyde Plumauzille (CNRS\, CMH) \n>> télécharger le programme complet (pdf) \nDans le cadre du projet de recherche soutenu par la MSH Paris Nord Les corps exposés à l’ombre des subalternes du soin \n>> consulter la présentation de l’atelier du 18 novembre 2021\nhttps://www.mshparisnord.fr/event/atelier-de-recherche-le-corps-des-domestiques/ \n>> site du GRIDOM\nhttps://domesticites.hypotheses.org/ \nUn projet de recherche qui bénéficie du soutien de la MSH Paris Nord dans le cadre de son appel à projets.
URL:https://www.mshparisnord.fr/event/seminaire-le-corps-de-domestiques/2022-04-22/
LOCATION:MSH Paris Nord\, 20\, avenue George Sand\, La Plaine Saint-Denis\, Métro ligne 12 : « Front populaire »\, accessible aux personnes à mobilité réduite\, 93210\, France
CATEGORIES:Manifestations scientifiques
ATTACH;FMTTYPE=image/jpeg:https://www.mshparisnord.fr/wp-content/uploads/2022/01/corps-domestique22-250.jpg
END:VEVENT
BEGIN:VEVENT
DTSTART;TZID=Europe/Paris:20220318T100000
DTEND;TZID=Europe/Paris:20220318T130000
DTSTAMP:20260426T033225
CREATED:20220131T143916Z
LAST-MODIFIED:20220509T094837Z
UID:10007214-1647597600-1647608400@www.mshparisnord.fr
SUMMARY:Séminaire\, Le corps des domestiques
DESCRIPTION:Séminaire du groupe de recherche interdisciplinaire sur les domesticités. \nL’atelier du 18 novembre 2021\, Le corps des domestiques\, a lancé le séminaire du Gridom. \nLe programme poursuit la réflexion sur les corps au travail de celles et ceux qui s’exposent pour prendre soin de notre monde\, pour faire tenir nos vies. Travailleurs et travailleuses des classes populaires\, les nourrices\, aides ménager·es\, auxiliaires de puériculture\, assistantes maternelles\, aides de vie sont ces personnes souvent effacées de la compréhension du passé comme du présent. Il s’agit pour nous de mettre en lumière leurs modes d’existence et d’expérience sensibles\, de problématiser leur place dans les rapports sociaux\, en les réinscrivant dans une histoire des corps subalternes\, déployée dans un espace mondialisé et sur une séquence chronologique large\, du XIXe siècle à nos jours. \nPour les séances de 2022\, alternerons la présentation de recherches en cours et\, à partir de matériaux visuels\, une réflexion collective sur les visibilités des domesticités. \nProgrammes\nLe 11 février 2022\nProjection de La Noire de… d’Ousmane Sembène (1966)\nSéance et discussion introduites par Caroline Ibos (Paris 8\, LEGS) et Monique Milia Marie-Luce (université des Antilles\, AIHP-GEODE\, Fellow ICM-Global) \nAuditorium de la MSH Paris Nord\n20 Avenue Georges Sand\, La plaine Saint-Denis \n\nLe 18 mars 2022\nProjection de Près d’elle de Chiara Giordano (ULB) et Benjamin Durand (2021)\nSéance en présence de la réalisatrice\, introduite par Nina Sahraoui (CRESPPA) \nAuditorium du Centre des colloques\, Campus Condorcet\,\nPlace du Front populaire\, Aubervilliers \n\nLe 22 avril 2022\n Entre genre\, classe\, race et âge : faire l’histoire des « boys » dans l’empire colonial français (XIXe-XXe siècle) de Stéphanie Soubrier (Paris 1 Panthéon-Sorbonne)\nSéance introduite par Monique Milia Marie-Luce (université des Antilles\, AIHP-GEODE\, Fellow ICM-Global) et Clyde Plumauzille (CNRS\, CMH) \nMaison des sciences de l’homme Paris Nord\, salle 408\n20 Avenue Georges Sand\, La plaine Saint-Denis \n\nLe 27 mai 2022\nDomesticités et plateformes de service à domicile. Le cas de Wecasa de Aurore Koechlin (Paris 1 Panthéon-Sorbonne)\nSéance et discussion introduites par Caroline Ibos (Paris 8\, LEGS). \nSalle 1.095 dans le bâtiment de recherche Nord du Campus Condorcet\nPlace du Front populaire\, Aubervilliers \n\nLe 24 juin 2022\nProjection de Overseas Sung-A Yun (2021)\nSéance et discussion introduites par Julien Debonneville (université de Genève) \nLieu à préciser \n\ninformations pratiques\nSéminaire public\nun vendredi par mois\nde 10h à 13h \nOrganisé par Caroline Ibos (université Paris 8\, LEGS)\, Monique Milia Marie Luce (université des Antilles\, AIHP-GEODE\, Fellow ICM-Global) et Clyde Plumauzille (CNRS\, CMH) \n>> télécharger le programme complet (pdf) \nDans le cadre du projet de recherche soutenu par la MSH Paris Nord Les corps exposés à l’ombre des subalternes du soin \n>> consulter la présentation de l’atelier du 18 novembre 2021\nhttps://www.mshparisnord.fr/event/atelier-de-recherche-le-corps-des-domestiques/ \n>> site du GRIDOM\nhttps://domesticites.hypotheses.org/ \nUn projet de recherche qui bénéficie du soutien de la MSH Paris Nord dans le cadre de son appel à projets.
URL:https://www.mshparisnord.fr/event/seminaire-le-corps-de-domestiques/2022-03-18/
LOCATION:MSH Paris Nord\, 20\, avenue George Sand\, La Plaine Saint-Denis\, Métro ligne 12 : « Front populaire »\, accessible aux personnes à mobilité réduite\, 93210\, France
CATEGORIES:Manifestations scientifiques
ATTACH;FMTTYPE=image/jpeg:https://www.mshparisnord.fr/wp-content/uploads/2022/01/corps-domestique22-250.jpg
END:VEVENT
BEGIN:VEVENT
DTSTART;TZID=Europe/Paris:20220211T100000
DTEND;TZID=Europe/Paris:20220211T130000
DTSTAMP:20260426T033225
CREATED:20220131T143916Z
LAST-MODIFIED:20220509T094837Z
UID:10007213-1644573600-1644584400@www.mshparisnord.fr
SUMMARY:Séminaire\, Le corps des domestiques
DESCRIPTION:Séminaire du groupe de recherche interdisciplinaire sur les domesticités. \nL’atelier du 18 novembre 2021\, Le corps des domestiques\, a lancé le séminaire du Gridom. \nLe programme poursuit la réflexion sur les corps au travail de celles et ceux qui s’exposent pour prendre soin de notre monde\, pour faire tenir nos vies. Travailleurs et travailleuses des classes populaires\, les nourrices\, aides ménager·es\, auxiliaires de puériculture\, assistantes maternelles\, aides de vie sont ces personnes souvent effacées de la compréhension du passé comme du présent. Il s’agit pour nous de mettre en lumière leurs modes d’existence et d’expérience sensibles\, de problématiser leur place dans les rapports sociaux\, en les réinscrivant dans une histoire des corps subalternes\, déployée dans un espace mondialisé et sur une séquence chronologique large\, du XIXe siècle à nos jours. \nPour les séances de 2022\, alternerons la présentation de recherches en cours et\, à partir de matériaux visuels\, une réflexion collective sur les visibilités des domesticités. \nProgrammes\nLe 11 février 2022\nProjection de La Noire de… d’Ousmane Sembène (1966)\nSéance et discussion introduites par Caroline Ibos (Paris 8\, LEGS) et Monique Milia Marie-Luce (université des Antilles\, AIHP-GEODE\, Fellow ICM-Global) \nAuditorium de la MSH Paris Nord\n20 Avenue Georges Sand\, La plaine Saint-Denis \n\nLe 18 mars 2022\nProjection de Près d’elle de Chiara Giordano (ULB) et Benjamin Durand (2021)\nSéance en présence de la réalisatrice\, introduite par Nina Sahraoui (CRESPPA) \nAuditorium du Centre des colloques\, Campus Condorcet\,\nPlace du Front populaire\, Aubervilliers \n\nLe 22 avril 2022\n Entre genre\, classe\, race et âge : faire l’histoire des « boys » dans l’empire colonial français (XIXe-XXe siècle) de Stéphanie Soubrier (Paris 1 Panthéon-Sorbonne)\nSéance introduite par Monique Milia Marie-Luce (université des Antilles\, AIHP-GEODE\, Fellow ICM-Global) et Clyde Plumauzille (CNRS\, CMH) \nMaison des sciences de l’homme Paris Nord\, salle 408\n20 Avenue Georges Sand\, La plaine Saint-Denis \n\nLe 27 mai 2022\nDomesticités et plateformes de service à domicile. Le cas de Wecasa de Aurore Koechlin (Paris 1 Panthéon-Sorbonne)\nSéance et discussion introduites par Caroline Ibos (Paris 8\, LEGS). \nSalle 1.095 dans le bâtiment de recherche Nord du Campus Condorcet\nPlace du Front populaire\, Aubervilliers \n\nLe 24 juin 2022\nProjection de Overseas Sung-A Yun (2021)\nSéance et discussion introduites par Julien Debonneville (université de Genève) \nLieu à préciser \n\ninformations pratiques\nSéminaire public\nun vendredi par mois\nde 10h à 13h \nOrganisé par Caroline Ibos (université Paris 8\, LEGS)\, Monique Milia Marie Luce (université des Antilles\, AIHP-GEODE\, Fellow ICM-Global) et Clyde Plumauzille (CNRS\, CMH) \n>> télécharger le programme complet (pdf) \nDans le cadre du projet de recherche soutenu par la MSH Paris Nord Les corps exposés à l’ombre des subalternes du soin \n>> consulter la présentation de l’atelier du 18 novembre 2021\nhttps://www.mshparisnord.fr/event/atelier-de-recherche-le-corps-des-domestiques/ \n>> site du GRIDOM\nhttps://domesticites.hypotheses.org/ \nUn projet de recherche qui bénéficie du soutien de la MSH Paris Nord dans le cadre de son appel à projets.
URL:https://www.mshparisnord.fr/event/seminaire-le-corps-de-domestiques/2022-02-11/
LOCATION:MSH Paris Nord\, 20\, avenue George Sand\, La Plaine Saint-Denis\, Métro ligne 12 : « Front populaire »\, accessible aux personnes à mobilité réduite\, 93210\, France
CATEGORIES:Manifestations scientifiques
ATTACH;FMTTYPE=image/jpeg:https://www.mshparisnord.fr/wp-content/uploads/2022/01/corps-domestique22-250.jpg
END:VEVENT
END:VCALENDAR