BEGIN:VCALENDAR
VERSION:2.0
PRODID:-//Maison des Sciences Humaines et sociales Paris Nord - ECPv6.8.2.1//NONSGML v1.0//EN
CALSCALE:GREGORIAN
METHOD:PUBLISH
X-WR-CALNAME:Maison des Sciences Humaines et sociales Paris Nord
X-ORIGINAL-URL:https://www.mshparisnord.fr
X-WR-CALDESC:Évènements pour Maison des Sciences Humaines et sociales Paris Nord
REFRESH-INTERVAL;VALUE=DURATION:PT1H
X-Robots-Tag:noindex
X-PUBLISHED-TTL:PT1H
BEGIN:VTIMEZONE
TZID:Europe/Paris
BEGIN:DAYLIGHT
TZOFFSETFROM:+0100
TZOFFSETTO:+0200
TZNAME:CEST
DTSTART:20260329T010000
END:DAYLIGHT
BEGIN:STANDARD
TZOFFSETFROM:+0200
TZOFFSETTO:+0100
TZNAME:CET
DTSTART:20261025T010000
END:STANDARD
END:VTIMEZONE
BEGIN:VEVENT
DTSTART;TZID=Europe/Paris:20260602T093000
DTEND;TZID=Europe/Paris:20260602T170000
DTSTAMP:20260420T005303
CREATED:20260417T160247Z
LAST-MODIFIED:20260417T160247Z
UID:10008468-1780392600-1780419600@www.mshparisnord.fr
SUMMARY:Journée d'études | Les données de la CNDP : quelles ressources pour la recherche ?
DESCRIPTION:La CNDP souhaite mettre en forme les données qu’elle collecte au cours des concertations et débats publics avec l’objectif d’ouvrir ses données aux chercheurs et aux publics intéressés. \nCes données portent à la fois sur les procédures mises en œuvre\, sur la forme et le contenu des échanges dont la CNDP rend compte\, et leurs résultats. C’est pourquoi les données que produit la CNDP peuvent alimenter de multiples travaux de recherche. \nCette ambition d’open data nécessite une collaboration avec le monde académique pour organiser la production et l’exploitation des données. La CNDP organise avec le GIS Démocratie & Participation une première journée d’études pour présenter les outils de collecte de données de la CNDP\, les mettre en discussion et susciter une dynamique partenariale pour la production de recherches en sciences humaines et sociales. \n>> accéder à l’événement sur le site du GIS Démocratie & Participation \n>> en savoir plus sur le GIS Démocratie & Participation \nProgramme\nPlus d’informations à venir \nPour préparer cette journée d’études\, un questionnaire est disponible afin de recueillir vos attentes. \nCe questionnaire est diffusé par le Gis Démocratie et Participation et administré par la CNDP. Il permet de préciser\, en fonction de vos objets et projets de recherche\, vos attentes vis-à-vis des données produites par la CNDP. \nVos réponses permettront d’organiser le programme de cette première journée pour répondre au mieux aux attentes formulées\, et d’envisager si nécessaire une journée d’études ultérieure. \nInformations pratiques\n\nle mardi 2 juin 2026\, de 9h30 à 17h\nà la MSH Paris Nord\nouvert à tous·tes
URL:https://www.mshparisnord.fr/event/je-donnees-cndp/
LOCATION:MSH Paris Nord\, 20\, avenue George Sand\, La Plaine Saint-Denis\, Métro ligne 12 : « Front populaire »\, accessible aux personnes à mobilité réduite\, 93210\, France
CATEGORIES:Manifestations scientifiques
ATTACH;FMTTYPE=image/jpeg:https://www.mshparisnord.fr/wp-content/uploads/2026/04/CNDP-visuel-journee-gis.jpg
END:VEVENT
END:VCALENDAR