

BEGIN:VCALENDAR
VERSION:2.0
PRODID:-//Maison des Sciences Humaines et sociales Paris Nord - ECPv6.8.2.1//NONSGML v1.0//EN
CALSCALE:GREGORIAN
METHOD:PUBLISH
X-ORIGINAL-URL:https://www.mshparisnord.fr
X-WR-CALDESC:Évènements pour Maison des Sciences Humaines et sociales Paris Nord
REFRESH-INTERVAL;VALUE=DURATION:PT1H
X-Robots-Tag:noindex
X-PUBLISHED-TTL:PT1H
BEGIN:VTIMEZONE
TZID:Europe/Paris
BEGIN:DAYLIGHT
TZOFFSETFROM:+0100
TZOFFSETTO:+0200
TZNAME:CEST
DTSTART:20260329T010000
END:DAYLIGHT
BEGIN:STANDARD
TZOFFSETFROM:+0200
TZOFFSETTO:+0100
TZNAME:CET
DTSTART:20261025T010000
END:STANDARD
END:VTIMEZONE
BEGIN:VEVENT
DTSTART;TZID=Europe/Paris:20260511T173000
DTEND;TZID=Europe/Paris:20260511T210000
DTSTAMP:20260423T233037
CREATED:20260423T161218Z
LAST-MODIFIED:20260423T161218Z
UID:10008478-1778520600-1778533200@www.mshparisnord.fr
SUMMARY:Présentation | Manifeste pour un Habitat Juste et Démocratique en Europe
DESCRIPTION:Le Manifeste pour un habitat juste et démocratique en dans les villes européennes a été élaboré collectivement lors d’un événement qui s’est tenu à Roubaix à l’occasion des journées mondiales de l’habitat début octobre 2025. Organisé par le consortium Fairville\, avec le collectif roubaisien Non à la démolition dans le quartier de l’Alma-Gare\, cet événement a réuni des militant.es pour le logement\, des organisations intermédiaires\, des chercheur.ses universitaires engagé.es et des professionnel.les progressistes de toute l’Europe pour un moment de réflexion et d’action sur la crise du logement en Europe. Ces échanges ont permis la rédaction du manifeste\, coordonné et consolidé par des chercheur.ses de la Bartlett Development Planning Unit (DPU) de l’University College London (UCL) et du Centre national de la recherche scientifique (LAVUE-CNRS). \nAlors que le logement est un sujet central de préoccupation en Europe et au-delà\, et que la Commission européenne a présenté mi décembre 2025 un plan européen pour le logement abordable\, ce manifeste résume les priorités et les aspirations en matière de logement qui ont émergé des échanges du week-end. Cet ensemble de réflexions et de revendications sert à la fois de feuille de route vers un avenir plus juste\, plus démocratique et plus durable en matière de logement dans les villes européennes et de point de référence collectif autour duquel ancrer les efforts de vigilance. Ces derniers sont d’autant plus importants que le plan européen initial a été “revisité” mi mars avec le rapport final de la commission spéciale sur la crise du logement. \nDialogues en co-production\nLes Dialogues en co-production sont une série de séminaires publics en ligne et en présentiel consacrés à la co-production de villes justes. Notre ambition est de contribuer à la consolidation d’une communauté de pratiques internationale autour d’échanges d’expérimentations concrètes de co-production et de plaidoyers répondant aux inégalités sociales\, spatiales\, environnementales et politiques croissantes dans nos villes. Les Dialogues sont ouverts aux habitant·e·s\, militant·e·s\, universitaires et professionnel·le·s\, ainsi qu’à d’autres acteurs issus des organisations de la société civile et des collectivités locales. \nÀ propos du projet Fairville\nLe projet Fairville est un projet de recherche international et collaboratif financé par Horizon Europe (programme de financement de l’UE pour la recherche et l’innovation) pour la période 2023-2026. Le projet vise à lutter contre les inégalités urbaines profondément ancrées et les défis qu’elles posent à la démocratie dans les grandes villes et les régions urbaines. Pour ce faire\, il soutient la co-production et la collaboration ascendante en impliquant des collectifs de citoyens dans les quartiers à faibles revenus. Le projet utilise la recherche-action participative et la co production de connaissances comme stratégies de justice spatiale pour lutter contre les inégalités urbaines qui touchent les villes\, principalement en Europe\, mais aussi en Afrique. Le projet de recherche est basé dans huit Fairville labs\, pour la plupart liés à des initiatives citoyennes menées par des groupes locaux partenaires du projet. Ils sont situés à Athènes\, Berlin\, Bruxelles\, Le Caire\, Dakar\, Londres et Marseille. \n>> télécharger le flyer de l’événement (pdf) \n>> accéder au site internet de Fairville \n>> en savoir plus sur l’association Appuii \nInformations pratiques\n\nlundi 11 mai 2026\, de 17h30 à 21h\nENSA Paris-La Villette\, salle de séminaire au rez-de-chaussée\, 23 rue des Ardennes\, 75019 Paris\nouvert à tous·tes\, sur inscription à cette adresse\n\nCet événement fait partie de la série Dialogues in coproduction de Fairville.
URL:https://www.mshparisnord.fr/event/manifeste-habitat-juste-democratique-europe/
LOCATION:ENSA Paris-La Villette\, 23 rue des Ardennes\, Paris\, 75019\, France
CATEGORIES:Manifestations scientifiques
ATTACH;FMTTYPE=image/png:https://www.mshparisnord.fr/wp-content/uploads/2026/04/Manifeste-pour-un-Habitat-Juste-et-Democratique.png
END:VEVENT
END:VCALENDAR