



BEGIN:VCALENDAR
VERSION:2.0
PRODID:-//Maison des Sciences Humaines et sociales Paris Nord - ECPv6.8.2.1//NONSGML v1.0//EN
CALSCALE:GREGORIAN
METHOD:PUBLISH
X-WR-CALNAME:Maison des Sciences Humaines et sociales Paris Nord
X-ORIGINAL-URL:https://www.mshparisnord.fr
X-WR-CALDESC:Évènements pour Maison des Sciences Humaines et sociales Paris Nord
REFRESH-INTERVAL;VALUE=DURATION:PT1H
X-Robots-Tag:noindex
X-PUBLISHED-TTL:PT1H
BEGIN:VTIMEZONE
TZID:Europe/Paris
BEGIN:DAYLIGHT
TZOFFSETFROM:+0100
TZOFFSETTO:+0200
TZNAME:CEST
DTSTART:20260329T010000
END:DAYLIGHT
BEGIN:STANDARD
TZOFFSETFROM:+0200
TZOFFSETTO:+0100
TZNAME:CET
DTSTART:20261025T010000
END:STANDARD
END:VTIMEZONE
BEGIN:VEVENT
DTSTART;TZID=Europe/Paris:20260410T100000
DTEND;TZID=Europe/Paris:20260410T172000
DTSTAMP:20260424T144805
CREATED:20260326T150744Z
LAST-MODIFIED:20260327T100651Z
UID:10008454-1775815200-1775841600@www.mshparisnord.fr
SUMMARY:Colloque | Examiner la médecine d’aujourd’hui par l’épistémologie historique
DESCRIPTION:11e journées d’études sur l’épistémologie historique\nL’objectif de ces journées est de mobiliser les ressources de l’épistémologie historique pour interroger les sciences biomédicales\, en particulier leurs pratiques les plus contemporaines. S’il est vrai que l’épistémologie historique a été appliquée à un éventail très large de domaines relevant des sciences de la nature\, des savoirs formels et des sciences de l’homme\, il est tout aussi vrai que les sciences médicales ont peut-être représenté l’un des points d’applications les plus importants de cette approche\, au moins depuis les travaux de Georges Canguilhem et Michel Foucault. Georges Canguilhem a cherché à appréhender la spécificité épistémologique des sciences de la vie\, et préciser l’articulation entre la recherche scientifique et les pratiques thérapeutiques dans la connaissance du vivant. Les différentes étapes de l’œuvre de Michel Foucault ont contribué à interroger différents aspects des discours et pratiques médicales\, de Naissance de la clinique à l’étude des formes du biopouvoir. À leur suite\, Ian Hacking a interrogé le rôle du raisonnement statistique en médecine\, ou a pu montrer\, à travers la notion d’effet de boucle\, comment les classifications psychiatriques transforment en retour les comportements des individus qu’elles visent. Plus récemment\, la fécondité de cette tradition pour interroger la médecine contemporaine s’illustre dans de nombreux travaux (par exemple Gaille 2014\, Giroux 2010). Dans la veine de ces recherches\, nous proposons donc des journées d’études consacrées à l’étude des savoirs médicaux\, des pratiques de soin et des politiques de santé par le prisme de l’épistémologie historique. \n>> accéder au carnet Hypotheses ÉpistHist \nProgramme\n9 avril 2026 \n\n9h30 – 10h : Accueil\n10h – 12h35 : Session 1\nPrésentation par Lucie Fabry\n\nThe Role of History and Philosophy of Science in Medicine: Ontology\, Epistemology\, and Illness\nUrte Laukaityte (Aarhus university) \nÉclairer la controverse sur les voies de transmission de la COVID-19 par l’épistémologie historique\nDavid Simard (université Paris Est–Créteil) \nHealth beyond the individual: Canguilhem meets “One Health”\nSilvia De Cesare (Utrecht university) \n\n14h15 – 16h50 : Session 2\nPrésentation par Perceval Pillon\n\nÉvolution de la classification des « démences » en regard de l’évolution des techniques\nPhilippe Albou (Société Française d’Histoire de la Médecine) \nRepenser l’oncologie au prisme canguilhémien : le cancer comme nouvelle normativité biologique\nGuglielmo Militello (université de Bordeaux) \nParadigme et/ou dispositif ? Utiliser l’épistémologie historique pour penser les relations de la cancérologie et de la médecine personnalisée\nJonathan Racine (université Toulouse-Jean Jaurès) \n\n16h50 – 17h20 : Discussion générale\n\n\n10 avril 2026 \n\n10h – 12h35 : Session 3\nPrésentation par Philippe Musette\n\nLe cas de la maladie d’Alzheimer : entre épistémologie et ontologie historiques\nMatteo Vagelli (università Ca’Foscari Venezia) \nLa naissance de l’épidémiologie clinique au prisme de la typologie des épistémès de Foucault\nClémence Thébaut (université de Bordeaux) \nMétabolisme et reproduction: réactiver une porosité oubliée\nCécilia Bognon Küss (Sorbonne université) \n\n14h – 16h50 : Session 4\nPrésentation par Caroline Angleraux\n\nRare diseases – on the multiple socio-epistemic effects of a regulatory intervention\nCornelius Borck (university of Lübeck) \nVers une méthode de la double vision : l’endométriose\, savoirs situés et causalité médicale\nLaurence Dufour-Villeneuve (université de Montréal\, université de Mons) \nNotes d’histoire épistémologique sur la médecine du travail\nMarco Dal Pozzolo (université Paris Cité) \n\n16h50 – 17h20 : Discussion générale\n\n\nInformations pratiques\n\nles jeudi 9 et vendredi 10 avril 2026\nà la MSH Paris Nord\, auditorium et en ligne sur demande à cettre adresse : epistemologiehistorique@gmail.com\nouvert à tous·tes\n\nComité d’organisation : Caroline Angleraux (université Paris 1\, IHPST)\, Lucie Fabry (université de Bourgogne\, LIR3S)\, Iván Moya-Diez (university of Lübeck)\, Perceval Pillon (université Paris 1\, IHPST) et Matteo Vagelli (università Ca’ Foscari Venezia) \nUn projet de recherche qui bénéficie du soutien de la MSH Paris Nord dans le cadre de son appel à projets annuel.
URL:https://www.mshparisnord.fr/event/colloque-episthist/2026-04-10/
LOCATION:MSH Paris Nord\, 20\, avenue George Sand\, La Plaine Saint-Denis\, Métro ligne 12 : « Front populaire »\, accessible aux personnes à mobilité réduite\, 93210\, France
CATEGORIES:Manifestations scientifiques
ATTACH;FMTTYPE=image/png:https://www.mshparisnord.fr/wp-content/uploads/2026/03/Affiche-Examiner-la-medecine-daujourdhui-par-lepistemologie-historique.png
END:VEVENT
BEGIN:VEVENT
DTSTART;TZID=Europe/Paris:20260409T093000
DTEND;TZID=Europe/Paris:20260409T172000
DTSTAMP:20260424T144805
CREATED:20260326T150744Z
LAST-MODIFIED:20260327T100651Z
UID:10008453-1775727000-1775755200@www.mshparisnord.fr
SUMMARY:Colloque | Examiner la médecine d’aujourd’hui par l’épistémologie historique
DESCRIPTION:11e journées d’études sur l’épistémologie historique\nL’objectif de ces journées est de mobiliser les ressources de l’épistémologie historique pour interroger les sciences biomédicales\, en particulier leurs pratiques les plus contemporaines. S’il est vrai que l’épistémologie historique a été appliquée à un éventail très large de domaines relevant des sciences de la nature\, des savoirs formels et des sciences de l’homme\, il est tout aussi vrai que les sciences médicales ont peut-être représenté l’un des points d’applications les plus importants de cette approche\, au moins depuis les travaux de Georges Canguilhem et Michel Foucault. Georges Canguilhem a cherché à appréhender la spécificité épistémologique des sciences de la vie\, et préciser l’articulation entre la recherche scientifique et les pratiques thérapeutiques dans la connaissance du vivant. Les différentes étapes de l’œuvre de Michel Foucault ont contribué à interroger différents aspects des discours et pratiques médicales\, de Naissance de la clinique à l’étude des formes du biopouvoir. À leur suite\, Ian Hacking a interrogé le rôle du raisonnement statistique en médecine\, ou a pu montrer\, à travers la notion d’effet de boucle\, comment les classifications psychiatriques transforment en retour les comportements des individus qu’elles visent. Plus récemment\, la fécondité de cette tradition pour interroger la médecine contemporaine s’illustre dans de nombreux travaux (par exemple Gaille 2014\, Giroux 2010). Dans la veine de ces recherches\, nous proposons donc des journées d’études consacrées à l’étude des savoirs médicaux\, des pratiques de soin et des politiques de santé par le prisme de l’épistémologie historique. \n>> accéder au carnet Hypotheses ÉpistHist \nProgramme\n9 avril 2026 \n\n9h30 – 10h : Accueil\n10h – 12h35 : Session 1\nPrésentation par Lucie Fabry\n\nThe Role of History and Philosophy of Science in Medicine: Ontology\, Epistemology\, and Illness\nUrte Laukaityte (Aarhus university) \nÉclairer la controverse sur les voies de transmission de la COVID-19 par l’épistémologie historique\nDavid Simard (université Paris Est–Créteil) \nHealth beyond the individual: Canguilhem meets “One Health”\nSilvia De Cesare (Utrecht university) \n\n14h15 – 16h50 : Session 2\nPrésentation par Perceval Pillon\n\nÉvolution de la classification des « démences » en regard de l’évolution des techniques\nPhilippe Albou (Société Française d’Histoire de la Médecine) \nRepenser l’oncologie au prisme canguilhémien : le cancer comme nouvelle normativité biologique\nGuglielmo Militello (université de Bordeaux) \nParadigme et/ou dispositif ? Utiliser l’épistémologie historique pour penser les relations de la cancérologie et de la médecine personnalisée\nJonathan Racine (université Toulouse-Jean Jaurès) \n\n16h50 – 17h20 : Discussion générale\n\n\n10 avril 2026 \n\n10h – 12h35 : Session 3\nPrésentation par Philippe Musette\n\nLe cas de la maladie d’Alzheimer : entre épistémologie et ontologie historiques\nMatteo Vagelli (università Ca’Foscari Venezia) \nLa naissance de l’épidémiologie clinique au prisme de la typologie des épistémès de Foucault\nClémence Thébaut (université de Bordeaux) \nMétabolisme et reproduction: réactiver une porosité oubliée\nCécilia Bognon Küss (Sorbonne université) \n\n14h – 16h50 : Session 4\nPrésentation par Caroline Angleraux\n\nRare diseases – on the multiple socio-epistemic effects of a regulatory intervention\nCornelius Borck (university of Lübeck) \nVers une méthode de la double vision : l’endométriose\, savoirs situés et causalité médicale\nLaurence Dufour-Villeneuve (université de Montréal\, université de Mons) \nNotes d’histoire épistémologique sur la médecine du travail\nMarco Dal Pozzolo (université Paris Cité) \n\n16h50 – 17h20 : Discussion générale\n\n\nInformations pratiques\n\nles jeudi 9 et vendredi 10 avril 2026\nà la MSH Paris Nord\, auditorium et en ligne sur demande à cettre adresse : epistemologiehistorique@gmail.com\nouvert à tous·tes\n\nComité d’organisation : Caroline Angleraux (université Paris 1\, IHPST)\, Lucie Fabry (université de Bourgogne\, LIR3S)\, Iván Moya-Diez (university of Lübeck)\, Perceval Pillon (université Paris 1\, IHPST) et Matteo Vagelli (università Ca’ Foscari Venezia) \nUn projet de recherche qui bénéficie du soutien de la MSH Paris Nord dans le cadre de son appel à projets annuel.
URL:https://www.mshparisnord.fr/event/colloque-episthist/2026-04-09/
LOCATION:MSH Paris Nord\, 20\, avenue George Sand\, La Plaine Saint-Denis\, Métro ligne 12 : « Front populaire »\, accessible aux personnes à mobilité réduite\, 93210\, France
CATEGORIES:Manifestations scientifiques
ATTACH;FMTTYPE=image/png:https://www.mshparisnord.fr/wp-content/uploads/2026/03/Affiche-Examiner-la-medecine-daujourdhui-par-lepistemologie-historique.png
END:VEVENT
END:VCALENDAR